BEGIN:VCALENDAR
VERSION:2.0
PRODID:-//Southern Ohio United Lacrosse Academy | SOUL - ECPv6.15.20//NONSGML v1.0//EN
CALSCALE:GREGORIAN
METHOD:PUBLISH
X-WR-CALNAME:Southern Ohio United Lacrosse Academy | SOUL
X-ORIGINAL-URL:https://soullaxacademy.com
X-WR-CALDESC:Events for Southern Ohio United Lacrosse Academy | SOUL
REFRESH-INTERVAL;VALUE=DURATION:PT1H
X-Robots-Tag:noindex
X-PUBLISHED-TTL:PT1H
BEGIN:VTIMEZONE
TZID:UTC
BEGIN:STANDARD
TZOFFSETFROM:+0000
TZOFFSETTO:+0000
TZNAME:UTC
DTSTART:20220101T000000
END:STANDARD
END:VTIMEZONE
BEGIN:VEVENT
DTSTART;TZID=UTC:20230928T180000
DTEND;TZID=UTC:20230928T200000
DTSTAMP:20260424T200357
CREATED:20230824T143053Z
LAST-MODIFIED:20230824T144905Z
UID:10000155-1695924000-1695931200@soullaxacademy.com
SUMMARY:Fall/Winter Session
DESCRIPTION:Fall/Winter Weekly Practices (Tues. & Thurs.) | 6 – 8 p.m. every session:\nSept. 12\, 14\, 19\, 21\, 26\, 28  |  Oct. 10\, 12\, 17\, 19\, 24\, 26\, 31  |  Nov. 2\, 7*\, 9* \nMAIN LOCATION:\nBerachah Church — 1900 Johns Rd.\, Middletown\, OH 45044
URL:https://soullaxacademy.com/events/fall-winter-session/2023-09-28/
END:VEVENT
BEGIN:VEVENT
DTSTART;TZID=UTC:20230930T100000
DTEND;TZID=UTC:20230930T170000
DTSTAMP:20260424T200357
CREATED:20230824T145448Z
LAST-MODIFIED:20230906T122245Z
UID:10000169-1696068000-1696093200@soullaxacademy.com
SUMMARY:Southern Ohio Fall Showcase
DESCRIPTION:Fall College Showcase\nSeptember 30 from 12 a.m. — 4 p.m. / Check-in begins at 11:15 a.m.\nFacility Tour Afterward\nSpooky Nook Champion Mill: 601 North B St.\, Hamilton\, OH 45013  |  (513) 273-8200 \nThis is a great exposure opportunity for players from our region to be instructed by\, and learn directly from collegiate coaches in a small and personal atmosphere. We will have drills\, full games\, positional coaching\, as well as College Q/A. \nA wide range of Midwestern colleges (12 and counting…!) will be in attendance. Don’t miss a great opportunity to get better as we bring the college coaches to you! This is open to players from ANY club\, and is not a SOUL recruiting event. \nReserve Your Spot Here…
URL:https://soullaxacademy.com/events/southern-ohio-fall-showcase/
END:VEVENT
BEGIN:VEVENT
DTSTART;TZID=UTC:20231010T180000
DTEND;TZID=UTC:20231010T200000
DTSTAMP:20260424T200357
CREATED:20230824T143053Z
LAST-MODIFIED:20230824T144905Z
UID:10000156-1696960800-1696968000@soullaxacademy.com
SUMMARY:Fall/Winter Session
DESCRIPTION:Fall/Winter Weekly Practices (Tues. & Thurs.) | 6 – 8 p.m. every session:\nSept. 12\, 14\, 19\, 21\, 26\, 28  |  Oct. 10\, 12\, 17\, 19\, 24\, 26\, 31  |  Nov. 2\, 7*\, 9* \nMAIN LOCATION:\nBerachah Church — 1900 Johns Rd.\, Middletown\, OH 45044
URL:https://soullaxacademy.com/events/fall-winter-session/2023-10-10/
END:VEVENT
BEGIN:VEVENT
DTSTART;TZID=UTC:20231012T180000
DTEND;TZID=UTC:20231012T200000
DTSTAMP:20260424T200357
CREATED:20230824T143053Z
LAST-MODIFIED:20230824T144905Z
UID:10000157-1697133600-1697140800@soullaxacademy.com
SUMMARY:Fall/Winter Session
DESCRIPTION:Fall/Winter Weekly Practices (Tues. & Thurs.) | 6 – 8 p.m. every session:\nSept. 12\, 14\, 19\, 21\, 26\, 28  |  Oct. 10\, 12\, 17\, 19\, 24\, 26\, 31  |  Nov. 2\, 7*\, 9* \nMAIN LOCATION:\nBerachah Church — 1900 Johns Rd.\, Middletown\, OH 45044
URL:https://soullaxacademy.com/events/fall-winter-session/2023-10-12/
END:VEVENT
BEGIN:VEVENT
DTSTART;TZID=UTC:20231017T180000
DTEND;TZID=UTC:20231017T200000
DTSTAMP:20260424T200357
CREATED:20230824T143053Z
LAST-MODIFIED:20230824T144905Z
UID:10000158-1697565600-1697572800@soullaxacademy.com
SUMMARY:Fall/Winter Session
DESCRIPTION:Fall/Winter Weekly Practices (Tues. & Thurs.) | 6 – 8 p.m. every session:\nSept. 12\, 14\, 19\, 21\, 26\, 28  |  Oct. 10\, 12\, 17\, 19\, 24\, 26\, 31  |  Nov. 2\, 7*\, 9* \nMAIN LOCATION:\nBerachah Church — 1900 Johns Rd.\, Middletown\, OH 45044
URL:https://soullaxacademy.com/events/fall-winter-session/2023-10-17/
END:VEVENT
BEGIN:VEVENT
DTSTART;TZID=UTC:20231019T180000
DTEND;TZID=UTC:20231019T200000
DTSTAMP:20260424T200357
CREATED:20230824T143053Z
LAST-MODIFIED:20230824T144905Z
UID:10000159-1697738400-1697745600@soullaxacademy.com
SUMMARY:Fall/Winter Session
DESCRIPTION:Fall/Winter Weekly Practices (Tues. & Thurs.) | 6 – 8 p.m. every session:\nSept. 12\, 14\, 19\, 21\, 26\, 28  |  Oct. 10\, 12\, 17\, 19\, 24\, 26\, 31  |  Nov. 2\, 7*\, 9* \nMAIN LOCATION:\nBerachah Church — 1900 Johns Rd.\, Middletown\, OH 45044
URL:https://soullaxacademy.com/events/fall-winter-session/2023-10-19/
END:VEVENT
BEGIN:VEVENT
DTSTART;VALUE=DATE:20231021
DTEND;VALUE=DATE:20231023
DTSTAMP:20260424T200357
CREATED:20230824T145038Z
LAST-MODIFIED:20230926T110121Z
UID:10000166-1697846400-1698019199@soullaxacademy.com
SUMMARY:Fall Carolina Shootout
DESCRIPTION:Fall Carolina Shootout @ Charlotte\, NC  —  Oct. 21st/22nd (Sat./Sun.) \n– EVENT: NXT Fall Carolina Shootout \n– DATES: 10/21 – 10/22 \n– LOCATION: Richard Barry Memorial Park \n– ADDRESS: 13707 Beatties Ford Rd\, Huntersville\, NC 28078 \n– TOURNEY INFO: Download Tourney Machine App \n– 3 Games (per day) = 6 total \n– Hotel Link – through tournament \n 
URL:https://soullaxacademy.com/events/fall-carolina-shootout/
END:VEVENT
BEGIN:VEVENT
DTSTART;TZID=UTC:20231024T180000
DTEND;TZID=UTC:20231024T200000
DTSTAMP:20260424T200357
CREATED:20230824T143053Z
LAST-MODIFIED:20230824T144905Z
UID:10000160-1698170400-1698177600@soullaxacademy.com
SUMMARY:Fall/Winter Session
DESCRIPTION:Fall/Winter Weekly Practices (Tues. & Thurs.) | 6 – 8 p.m. every session:\nSept. 12\, 14\, 19\, 21\, 26\, 28  |  Oct. 10\, 12\, 17\, 19\, 24\, 26\, 31  |  Nov. 2\, 7*\, 9* \nMAIN LOCATION:\nBerachah Church — 1900 Johns Rd.\, Middletown\, OH 45044
URL:https://soullaxacademy.com/events/fall-winter-session/2023-10-24/
END:VEVENT
BEGIN:VEVENT
DTSTART;TZID=UTC:20231026T180000
DTEND;TZID=UTC:20231026T200000
DTSTAMP:20260424T200357
CREATED:20230824T143053Z
LAST-MODIFIED:20230824T144905Z
UID:10000161-1698343200-1698350400@soullaxacademy.com
SUMMARY:Fall/Winter Session
DESCRIPTION:Fall/Winter Weekly Practices (Tues. & Thurs.) | 6 – 8 p.m. every session:\nSept. 12\, 14\, 19\, 21\, 26\, 28  |  Oct. 10\, 12\, 17\, 19\, 24\, 26\, 31  |  Nov. 2\, 7*\, 9* \nMAIN LOCATION:\nBerachah Church — 1900 Johns Rd.\, Middletown\, OH 45044
URL:https://soullaxacademy.com/events/fall-winter-session/2023-10-26/
END:VEVENT
BEGIN:VEVENT
DTSTART;TZID=UTC:20231031T180000
DTEND;TZID=UTC:20231031T200000
DTSTAMP:20260424T200357
CREATED:20230824T143053Z
LAST-MODIFIED:20230824T144905Z
UID:10000162-1698775200-1698782400@soullaxacademy.com
SUMMARY:Fall/Winter Session
DESCRIPTION:Fall/Winter Weekly Practices (Tues. & Thurs.) | 6 – 8 p.m. every session:\nSept. 12\, 14\, 19\, 21\, 26\, 28  |  Oct. 10\, 12\, 17\, 19\, 24\, 26\, 31  |  Nov. 2\, 7*\, 9* \nMAIN LOCATION:\nBerachah Church — 1900 Johns Rd.\, Middletown\, OH 45044
URL:https://soullaxacademy.com/events/fall-winter-session/2023-10-31/
END:VEVENT
BEGIN:VEVENT
DTSTART;TZID=UTC:20231102T180000
DTEND;TZID=UTC:20231102T200000
DTSTAMP:20260424T200357
CREATED:20230824T143053Z
LAST-MODIFIED:20230824T144905Z
UID:10000163-1698948000-1698955200@soullaxacademy.com
SUMMARY:Fall/Winter Session
DESCRIPTION:Fall/Winter Weekly Practices (Tues. & Thurs.) | 6 – 8 p.m. every session:\nSept. 12\, 14\, 19\, 21\, 26\, 28  |  Oct. 10\, 12\, 17\, 19\, 24\, 26\, 31  |  Nov. 2\, 7*\, 9* \nMAIN LOCATION:\nBerachah Church — 1900 Johns Rd.\, Middletown\, OH 45044
URL:https://soullaxacademy.com/events/fall-winter-session/2023-11-02/
END:VEVENT
BEGIN:VEVENT
DTSTART;VALUE=DATE:20231104
DTEND;VALUE=DATE:20231106
DTSTAMP:20260424T200357
CREATED:20230824T145234Z
LAST-MODIFIED:20230926T110224Z
UID:10000167-1699056000-1699228799@soullaxacademy.com
SUMMARY:Fall Can-Am Invitational
DESCRIPTION:Can-Am Invitational @ Grand Park\, IN  —  Jr. HS = Nov. 4th (Saturday) / HS = Nov. 5th (Sunday) \n– EVENT: NXT Can-Am Invitational \n– DATES: 11/4 (Youth ONLY) & 11/5 (HS ONLY) \n– LOCATION: Grand Park Sports Campus \n– ADDRESS: 19000 Grand Park Blvd\, Westfield\, IN 46074 \n– TOURNEY INFO: Download Tourney Machine App \n– 3 Games (per day) \n– Hotel/lodging = (Tournament is 2 hrs away); If you want a hotel there are several options in the area including airbnb options. \n  \nTOURNAMENT REGISTRATION/WAIVER: \nComing soon.
URL:https://soullaxacademy.com/events/fall-can-am-invitational/
END:VEVENT
BEGIN:VEVENT
DTSTART;TZID=UTC:20231107T180000
DTEND;TZID=UTC:20231107T200000
DTSTAMP:20260424T200357
CREATED:20230824T143053Z
LAST-MODIFIED:20230824T144905Z
UID:10000164-1699380000-1699387200@soullaxacademy.com
SUMMARY:Fall/Winter Session
DESCRIPTION:Fall/Winter Weekly Practices (Tues. & Thurs.) | 6 – 8 p.m. every session:\nSept. 12\, 14\, 19\, 21\, 26\, 28  |  Oct. 10\, 12\, 17\, 19\, 24\, 26\, 31  |  Nov. 2\, 7*\, 9* \nMAIN LOCATION:\nBerachah Church — 1900 Johns Rd.\, Middletown\, OH 45044
URL:https://soullaxacademy.com/events/fall-winter-session/2023-11-07/
END:VEVENT
BEGIN:VEVENT
DTSTART;TZID=UTC:20231109T180000
DTEND;TZID=UTC:20231109T200000
DTSTAMP:20260424T200357
CREATED:20230824T143053Z
LAST-MODIFIED:20230824T144905Z
UID:10000165-1699552800-1699560000@soullaxacademy.com
SUMMARY:Fall/Winter Session
DESCRIPTION:Fall/Winter Weekly Practices (Tues. & Thurs.) | 6 – 8 p.m. every session:\nSept. 12\, 14\, 19\, 21\, 26\, 28  |  Oct. 10\, 12\, 17\, 19\, 24\, 26\, 31  |  Nov. 2\, 7*\, 9* \nMAIN LOCATION:\nBerachah Church — 1900 Johns Rd.\, Middletown\, OH 45044
URL:https://soullaxacademy.com/events/fall-winter-session/2023-11-09/
END:VEVENT
BEGIN:VEVENT
DTSTART;VALUE=DATE:20231111
DTEND;VALUE=DATE:20231113
DTSTAMP:20260424T200357
CREATED:20230824T145330Z
LAST-MODIFIED:20230824T145330Z
UID:10000168-1699660800-1699833599@soullaxacademy.com
SUMMARY:Fall Inside Lacrosse Event
DESCRIPTION:Nov. 11th – 12th (weekend) / Inside Lacrosse Session II – Bel Air\, MD /Legends Chrome Classic – Williamsburg\, VA
URL:https://soullaxacademy.com/events/fall-inside-lacrosse-event/
END:VEVENT
BEGIN:VEVENT
DTSTART;TZID=UTC:20231201T180000
DTEND;TZID=UTC:20231201T210000
DTSTAMP:20260424T200357
CREATED:20231122T131905Z
LAST-MODIFIED:20231122T131905Z
UID:10000170-1701453600-1701464400@soullaxacademy.com
SUMMARY:Winter Session
DESCRIPTION:Winter Session Practices (Mondays & Fridays)\nDecember 1\, 4\, 8\, 11\, 18 | Jr. HS 6 – 7:30 pm | HS (24-27) 7:30 – 9 pm\nJanuary 5\, 8\, 15\, 19\, 22 | (Possibly 1/10 & 1/24) | Jr. HS 6 – 7 pm | HS (26-27) 7 -8 pm | HS (24-25) 8- 9 pm \nMAIN LOCATION:\nThe Barn — 5556 Mount Zion Rd.\, Milford\, OH 45150 \nTOURNAMENTS:\nChicago Box Championships @ Naperville\, IL  —  Jan. 13/14 (Sat./Sun.) | More info…\nLousiville Box Classic @ Lousiville\, KY  —  Jan. 27/28 (Sat./Sun.) | More info…
URL:https://soullaxacademy.com/events/winter-session/
END:VEVENT
BEGIN:VEVENT
DTSTART;TZID=UTC:20231204T180000
DTEND;TZID=UTC:20231204T210000
DTSTAMP:20260424T200357
CREATED:20231122T132002Z
LAST-MODIFIED:20231122T132002Z
UID:10000171-1701712800-1701723600@soullaxacademy.com
SUMMARY:Winter Session
DESCRIPTION:Winter Session Practices (Mondays & Fridays)\nDecember 1\, 4\, 8\, 11\, 18 | Jr. HS 6 – 7:30 pm | HS (24-27) 7:30 – 9 pm\nJanuary 5\, 8\, 15\, 19\, 22 | (Possibly 1/10 & 1/24) | Jr. HS 6 – 7 pm | HS (26-27) 7 -8 pm | HS (24-25) 8- 9 pm \nMAIN LOCATION:\nThe Barn — 5556 Mount Zion Rd.\, Milford\, OH 45150 \nTOURNAMENTS:\nChicago Box Championships @ Naperville\, IL  —  Jan. 13/14 (Sat./Sun.) | More info…\nLousiville Box Classic @ Lousiville\, KY  —  Jan. 27/28 (Sat./Sun.) | More info…
URL:https://soullaxacademy.com/events/winter-session-2/
END:VEVENT
BEGIN:VEVENT
DTSTART;TZID=UTC:20231208T180000
DTEND;TZID=UTC:20231208T210000
DTSTAMP:20260424T200357
CREATED:20231122T132102Z
LAST-MODIFIED:20231122T132102Z
UID:10000172-1702058400-1702069200@soullaxacademy.com
SUMMARY:Winter Session
DESCRIPTION:Winter Session Practices (Mondays & Fridays)\nDecember 1\, 4\, 8\, 11\, 18 | Jr. HS 6 – 7:30 pm | HS (24-27) 7:30 – 9 pm\nJanuary 5\, 8\, 15\, 19\, 22 | (Possibly 1/10 & 1/24) | Jr. HS 6 – 7 pm | HS (26-27) 7 -8 pm | HS (24-25) 8- 9 pm \nMAIN LOCATION:\nThe Barn — 5556 Mount Zion Rd.\, Milford\, OH 45150 \nTOURNAMENTS:\nChicago Box Championships @ Naperville\, IL  —  Jan. 13/14 (Sat./Sun.) | More info…\nLousiville Box Classic @ Lousiville\, KY  —  Jan. 27/28 (Sat./Sun.) | More info…
URL:https://soullaxacademy.com/events/winter-session-3/
END:VEVENT
BEGIN:VEVENT
DTSTART;TZID=UTC:20231211T180000
DTEND;TZID=UTC:20231211T210000
DTSTAMP:20260424T200357
CREATED:20231122T132146Z
LAST-MODIFIED:20231122T132146Z
UID:10000173-1702317600-1702328400@soullaxacademy.com
SUMMARY:Winter Session
DESCRIPTION:Winter Session Practices (Mondays & Fridays)\nDecember 1\, 4\, 8\, 11\, 18 | Jr. HS 6 – 7:30 pm | HS (24-27) 7:30 – 9 pm\nJanuary 5\, 8\, 15\, 19\, 22 | (Possibly 1/10 & 1/24) | Jr. HS 6 – 7 pm | HS (26-27) 7 -8 pm | HS (24-25) 8- 9 pm \nMAIN LOCATION:\nThe Barn — 5556 Mount Zion Rd.\, Milford\, OH 45150 \nTOURNAMENTS:\nChicago Box Championships @ Naperville\, IL  —  Jan. 13/14 (Sat./Sun.) | More info…\nLousiville Box Classic @ Lousiville\, KY  —  Jan. 27/28 (Sat./Sun.) | More info…
URL:https://soullaxacademy.com/events/winter-session-4/
END:VEVENT
BEGIN:VEVENT
DTSTART;TZID=UTC:20231218T180000
DTEND;TZID=UTC:20231218T210000
DTSTAMP:20260424T200357
CREATED:20231122T132230Z
LAST-MODIFIED:20231122T132230Z
UID:10000174-1702922400-1702933200@soullaxacademy.com
SUMMARY:Winter Session
DESCRIPTION:Winter Session Practices (Mondays & Fridays)\nDecember 1\, 4\, 8\, 11\, 18 | Jr. HS 6 – 7:30 pm | HS (24-27) 7:30 – 9 pm\nJanuary 5\, 8\, 15\, 19\, 22 | (Possibly 1/10 & 1/24) | Jr. HS 6 – 7 pm | HS (26-27) 7 -8 pm | HS (24-25) 8- 9 pm \nMAIN LOCATION:\nThe Barn — 5556 Mount Zion Rd.\, Milford\, OH 45150 \nTOURNAMENTS:\nChicago Box Championships @ Naperville\, IL  —  Jan. 13/14 (Sat./Sun.) | More info…\nLousiville Box Classic @ Lousiville\, KY  —  Jan. 27/28 (Sat./Sun.) | More info…
URL:https://soullaxacademy.com/events/winter-session-5/
END:VEVENT
BEGIN:VEVENT
DTSTART;TZID=UTC:20240105T180000
DTEND;TZID=UTC:20240105T210000
DTSTAMP:20260424T200357
CREATED:20231122T132334Z
LAST-MODIFIED:20231122T132400Z
UID:10000175-1704477600-1704488400@soullaxacademy.com
SUMMARY:Winter Session
DESCRIPTION:Winter Session Practices (Mondays & Fridays)\nJanuary 5\, 8\, 15\, 19\, 22 | (Possibly 1/10 & 1/24) | Jr. HS 6 – 7 pm | HS (26-27) 7 -8 pm | HS (24-25) 8- 9 pm \nMAIN LOCATION:\nThe Barn — 5556 Mount Zion Rd.\, Milford\, OH 45150 \nTOURNAMENTS:\nChicago Box Championships @ Naperville\, IL  —  Jan. 13/14 (Sat./Sun.) | More info…\nLousiville Box Classic @ Lousiville\, KY  —  Jan. 27/28 (Sat./Sun.) | More info…
URL:https://soullaxacademy.com/events/winter-session-6/
END:VEVENT
BEGIN:VEVENT
DTSTART;TZID=UTC:20240108T180000
DTEND;TZID=UTC:20240108T210000
DTSTAMP:20260424T200357
CREATED:20231122T132444Z
LAST-MODIFIED:20231122T132444Z
UID:10000176-1704736800-1704747600@soullaxacademy.com
SUMMARY:Winter Session
DESCRIPTION:Winter Session Practices (Mondays & Fridays)\nJanuary 5\, 8\, 15\, 19\, 22 | (Possibly 1/10 & 1/24) | Jr. HS 6 – 7 pm | HS (26-27) 7 -8 pm | HS (24-25) 8- 9 pm \nMAIN LOCATION:\nThe Barn — 5556 Mount Zion Rd.\, Milford\, OH 45150 \nTOURNAMENTS:\nChicago Box Championships @ Naperville\, IL  —  Jan. 13/14 (Sat./Sun.) | More info…\nLousiville Box Classic @ Lousiville\, KY  —  Jan. 27/28 (Sat./Sun.) | More info…
URL:https://soullaxacademy.com/events/winter-session-7/
END:VEVENT
BEGIN:VEVENT
DTSTART;VALUE=DATE:20240113
DTEND;VALUE=DATE:20240115
DTSTAMP:20260424T200357
CREATED:20231128T204151Z
LAST-MODIFIED:20231128T204151Z
UID:10000180-1705104000-1705276799@soullaxacademy.com
SUMMARY:Roch-Vegas Showdown
DESCRIPTION:Roch-Vegas Showdown @ Rochester\, NY  —  Jan. 13/14 (Sat./Sun.) | More info…
URL:https://soullaxacademy.com/events/roch-vegas-showdown/
END:VEVENT
BEGIN:VEVENT
DTSTART;TZID=UTC:20240115T180000
DTEND;TZID=UTC:20240115T210000
DTSTAMP:20260424T200357
CREATED:20231122T132540Z
LAST-MODIFIED:20231122T132540Z
UID:10000177-1705341600-1705352400@soullaxacademy.com
SUMMARY:Winter Session
DESCRIPTION:Winter Session Practices (Mondays & Fridays)\nJanuary 5\, 8\, 15\, 19\, 22 | (Possibly 1/10 & 1/24) | Jr. HS 6 – 7 pm | HS (26-27) 7 -8 pm | HS (24-25) 8- 9 pm \nMAIN LOCATION:\nThe Barn — 5556 Mount Zion Rd.\, Milford\, OH 45150 \nTOURNAMENTS:\nChicago Box Championships @ Naperville\, IL  —  Jan. 13/14 (Sat./Sun.) | More info…\nLousiville Box Classic @ Lousiville\, KY  —  Jan. 27/28 (Sat./Sun.) | More info…
URL:https://soullaxacademy.com/events/winter-session-8/
END:VEVENT
BEGIN:VEVENT
DTSTART;TZID=UTC:20240119T180000
DTEND;TZID=UTC:20240119T210000
DTSTAMP:20260424T200357
CREATED:20231122T132619Z
LAST-MODIFIED:20231122T132619Z
UID:10000178-1705687200-1705698000@soullaxacademy.com
SUMMARY:Winter Session
DESCRIPTION:Winter Session Practices (Mondays & Fridays)\nJanuary 5\, 8\, 15\, 19\, 22 | (Possibly 1/10 & 1/24) | Jr. HS 6 – 7 pm | HS (26-27) 7 -8 pm | HS (24-25) 8- 9 pm \nMAIN LOCATION:\nThe Barn — 5556 Mount Zion Rd.\, Milford\, OH 45150 \nTOURNAMENTS:\nChicago Box Championships @ Naperville\, IL  —  Jan. 13/14 (Sat./Sun.) | More info…\nLousiville Box Classic @ Lousiville\, KY  —  Jan. 27/28 (Sat./Sun.) | More info…
URL:https://soullaxacademy.com/events/winter-session-9/
END:VEVENT
BEGIN:VEVENT
DTSTART;TZID=UTC:20240122T180000
DTEND;TZID=UTC:20240122T210000
DTSTAMP:20260424T200357
CREATED:20231122T132659Z
LAST-MODIFIED:20231122T132659Z
UID:10000179-1705946400-1705957200@soullaxacademy.com
SUMMARY:Winter Session
DESCRIPTION:Winter Session Practices (Mondays & Fridays)\nJanuary 5\, 8\, 15\, 19\, 22 | (Possibly 1/10 & 1/24) | Jr. HS 6 – 7 pm | HS (26-27) 7 -8 pm | HS (24-25) 8- 9 pm \nMAIN LOCATION:\nThe Barn — 5556 Mount Zion Rd.\, Milford\, OH 45150 \nTOURNAMENTS:\nChicago Box Championships @ Naperville\, IL  —  Jan. 13/14 (Sat./Sun.) | More info…\nLousiville Box Classic @ Lousiville\, KY  —  Jan. 27/28 (Sat./Sun.) | More info…
URL:https://soullaxacademy.com/events/winter-session-10/
END:VEVENT
BEGIN:VEVENT
DTSTART;VALUE=DATE:20240127
DTEND;VALUE=DATE:20240129
DTSTAMP:20260424T200357
CREATED:20231128T204230Z
LAST-MODIFIED:20231128T204230Z
UID:10000181-1706313600-1706486399@soullaxacademy.com
SUMMARY:Louisville Box Classic
DESCRIPTION:Lousiville Box Classic @ Lousiville\, KY  —  Jan. 27/28 (Sat./Sun.) | More info…
URL:https://soullaxacademy.com/events/louisville-box-classic/
END:VEVENT
BEGIN:VEVENT
DTSTART;TZID=UTC:20240604T110000
DTEND;TZID=UTC:20240606T130000
DTSTAMP:20260424T200357
CREATED:20240527T145147Z
LAST-MODIFIED:20240527T145751Z
UID:10000182-1717498800-1717678800@soullaxacademy.com
SUMMARY:June 4-6 Training Camp\, Morning
DESCRIPTION:Training Camp #1 = June 4th – 6th [ All Teams ] – Preparation for Midwest Prime\n– Morning = 11:00am – 1:00pm \nTournament Schedule: (By Team) \nS.O.U.L. 28/29\nMidwest Prime @ (Lebanon\, OH)\nJune 8th – 9th\nATL Classic @ (Marietta\, GA)\nJune 22nd – 23rd\nNiagara Lacrosse Classic @ (Niagara Falls\, NY)\nJuly 20th – 21st \nS.O.U.L. 2027\nMidwest Prime @ (Lebanon\, OH)\nJune 8th – 9th\nRadar Invitational @ (West Windsor\, NJ)\nJune 22nd – 23rd\nNiagara Lacrosse Classic @ (Niagara Falls\, NY)\nJuly 20th – 21st \nS.O.U.L. 25/26\nMidwest Prime @ (Lebanon\, OH)\nJune 8th – 9th\nMid-Summer Championship @ (Proving Grounds\, PA)\nJune 27th – 28th (Thurs. & Fri.)\nPhilly Invitational @ (Proving Grounds\, PA)\nJuly 20th – 21st \nS.O.U.L. 2025\nMidwest Prime @ (Lebanon\, OH)\nJune 8th – 9th\nRadar Invitational @ (West Windsor\, NJ)\nJune 22nd – 23rd\nTrilogy 24 @ (Proving Grounds\, PA)\nJuly 10th – 11th (Wed. & Thurs.)
URL:https://soullaxacademy.com/events/june-4-6-training-camp-morning/
END:VEVENT
BEGIN:VEVENT
DTSTART;TZID=UTC:20240604T180000
DTEND;TZID=UTC:20240606T201500
DTSTAMP:20260424T200357
CREATED:20240527T145213Z
LAST-MODIFIED:20240527T145730Z
UID:10000183-1717524000-1717704900@soullaxacademy.com
SUMMARY:June 4-6 Training Camp\, Evening
DESCRIPTION:Training Camp #1 = June 4th – 6th [ All Teams ] – Preparation for Midwest Prime\n– Evening = 6:00pm – 8:15pm \nTournament Schedule: (By Team) \nS.O.U.L. 28/29\nMidwest Prime @ (Lebanon\, OH)\nJune 8th – 9th\nATL Classic @ (Marietta\, GA)\nJune 22nd – 23rd\nNiagara Lacrosse Classic @ (Niagara Falls\, NY)\nJuly 20th – 21st \nS.O.U.L. 2027\nMidwest Prime @ (Lebanon\, OH)\nJune 8th – 9th\nRadar Invitational @ (West Windsor\, NJ)\nJune 22nd – 23rd\nNiagara Lacrosse Classic @ (Niagara Falls\, NY)\nJuly 20th – 21st \nS.O.U.L. 25/26\nMidwest Prime @ (Lebanon\, OH)\nJune 8th – 9th\nMid-Summer Championship @ (Proving Grounds\, PA)\nJune 27th – 28th (Thurs. & Fri.)\nPhilly Invitational @ (Proving Grounds\, PA)\nJuly 20th – 21st \nS.O.U.L. 2025\nMidwest Prime @ (Lebanon\, OH)\nJune 8th – 9th\nRadar Invitational @ (West Windsor\, NJ)\nJune 22nd – 23rd\nTrilogy 24 @ (Proving Grounds\, PA)\nJuly 10th – 11th (Wed. & Thurs.)
URL:https://soullaxacademy.com/events/june-4-6-training-camp-evening/
END:VEVENT
BEGIN:VEVENT
DTSTART;VALUE=DATE:20240608
DTEND;VALUE=DATE:20240610
DTSTAMP:20260424T200357
CREATED:20240527T150528Z
LAST-MODIFIED:20240527T150554Z
UID:10000190-1717804800-1717977599@soullaxacademy.com
SUMMARY:Midwest Prime Tournament
DESCRIPTION:Midwest Prime @ (Lebanon\, OH)\nJune 8th – 9th \nS.O.U.L. 28/29 \nS.O.U.L. 2027 \nS.O.U.L. 25/26 \nS.O.U.L. 2025
URL:https://soullaxacademy.com/events/midwest-prime-tournament/
END:VEVENT
END:VCALENDAR